BEGIN:VCALENDAR
VERSION:2.0
PRODID:icalendar-ruby
CALSCALE:GREGORIAN
METHOD:PUBLISH
BEGIN:VEVENT
DTSTAMP:20260421T000527Z
UID:52-536213@grace4marshall.org
DTSTART:20261011T143000Z
DTEND:20261011T153000Z
CLASS:PUBLIC
CREATED:20260420T165856
DESCRIPTION:We believe Sunday School to be one of the most important Bible 
 studies of the week! These classes are geared toward Biblical-knowledge gr
 owth and practical application--and we have classes for all ages!\nJoin us
  every Sunday at 9:30AM for coffee\, donuts\, and Bible study!
LAST-MODIFIED:20260420T165856
LOCATION:Grace Fellowship
SUMMARY:Sunday School
URL;VALUE=URI:https://www.grace4marshall.org/events/sunday-school/2026-10-1
 1
ATTACH;FILENAME=sunday_school-title-1-Wide 16x9.jpg;FMTTYPE=image/jpeg:http
 s://dq5pwpg1q8ru0.cloudfront.net/2024/05/23/21/18/16/db454bed-d2e1-4d2f-89
 2e-0e80a2283cb1/sunday_school-title-1-Wide%2016x9.jpg
END:VEVENT
END:VCALENDAR
